BEGIN:VCALENDAR
VERSION:2.0
PRODID:icalendar-ruby
CALSCALE:GREGORIAN
METHOD:PUBLISH
BEGIN:VEVENT
DTSTAMP:20260419T122916Z
UID:28-830922@yorkwoodchurch.org
DTSTART:20260930T230000Z
DTEND:20261001T000000Z
CLASS:PUBLIC
CREATED:20260419T074927
DESCRIPTION:Wednesday Night Service
LAST-MODIFIED:20260419T074927
LOCATION:YWCOG
SUMMARY:Wednesday Night Service
URL;VALUE=URI:https://yorkwoodchurch.org/events/wednesday-night-service/202
 6-09-30
END:VEVENT
END:VCALENDAR
