BEGIN:VCALENDAR
VERSION:2.0
PRODID:icalendar-ruby
CALSCALE:GREGORIAN
METHOD:PUBLISH
BEGIN:VEVENT
DTSTAMP:20260424T014721Z
UID:14-848101@yorkwoodchurch.org
DTSTART:20261018T144500Z
DTEND:20261018T163000Z
CLASS:PUBLIC
CREATED:20260423T190507
DESCRIPTION:
LAST-MODIFIED:20260423T190507
LOCATION:Yorkwood Church of God
SUMMARY:Sunday Morning Service
URL;VALUE=URI:https://yorkwoodchurch.org/events/sunday-morning-service/2026
 -10-18
ATTACH;FILENAME=sanctuary1.jpg;FMTTYPE=image/jpeg:https://dq5pwpg1q8ru0.clo
 udfront.net/2023/06/16/11/00/33/a7e1a7ff-cbc6-473f-8a80-516ae9c5c3f3/sanct
 uary1.jpg
END:VEVENT
END:VCALENDAR
