BEGIN:VCALENDAR
VERSION:2.0
PRODID:icalendar-ruby
CALSCALE:GREGORIAN
METHOD:PUBLISH
BEGIN:VEVENT
DTSTAMP:20260425T233456Z
UID:16-855762@yorkwoodchurch.org
DTSTART:20261011T220000Z
DTEND:20261011T233000Z
CLASS:PUBLIC
CREATED:20260425T180413
DESCRIPTION:
LAST-MODIFIED:20260425T180413
LOCATION:Youth Room
SUMMARY:Revive Student Ministries Youth Service
URL;VALUE=URI:https://yorkwoodchurch.org/events/revive-student-ministries-y
 outh-service/2026-10-11
ATTACH;FILENAME=youthservices.jpeg;FMTTYPE=image/jpeg:https://dq5pwpg1q8ru0
 .cloudfront.net/2023/06/16/11/11/47/ef2bed77-9488-4ccb-b18b-8aacad5232f0/y
 outhservices.jpeg
END:VEVENT
END:VCALENDAR
